BEGIN:VCALENDAR
VERSION:2.0
PRODID:-//Tukios.com/
BEGIN:VEVENT
UID:a130bb2a-ad95-45e9-b892-44b40d623ec8@www.lutzfuneralhome.com
DTSTAMP:20260424T034710Z
DTSTART:20260427T140000Z
DTEND:20260427T150000Z
SUMMARY:Public Viewing
DESCRIPTION:
URL:https://www.lutzfuneralhome.com/obituaries/sharon-franckowiak
LOCATION:Lutz Funeral Home, Inc. 2100 Perkiomen Ave  Reading PA 19606
GEO:40.3273722;-75.8956423
END:VEVENT
END:VCALENDAR