BEGIN:VCALENDAR
VERSION:2.0
PRODID:-//Tukios.com/
BEGIN:VEVENT
UID:39d89390-e780-42a1-aba7-d5b437bc5ac6@www.lutzfuneralhome.com
DTSTAMP:20260424T034300Z
DTSTART:20260427T150000Z
DTEND:20260427T160000Z
SUMMARY:Memorial Service
DESCRIPTION:
URL:https://www.lutzfuneralhome.com/obituaries/sharon-franckowiak
LOCATION:Lutz Funeral Home, Inc. 2100 Perkiomen Ave  Reading PA 19606
GEO:40.3273722;-75.8956423
END:VEVENT
END:VCALENDAR