BEGIN:VCALENDAR
VERSION:2.0
PRODID:-//Tukios.com/
BEGIN:VEVENT
UID:5b00bc9b-3903-4164-a9b6-683286599c75@www.lutzfuneralhome.com
DTSTAMP:20260424T232011Z
DTSTART:20260503T160000Z
DTEND:20260503T180000Z
SUMMARY:Public Viewing
DESCRIPTION:
URL:https://www.lutzfuneralhome.com/obituaries/kenneth-houck
LOCATION:Lutz Funeral Home, Inc. 2100 Perkiomen Ave  Reading PA 19606
GEO:40.3273722;-75.8956423
END:VEVENT
END:VCALENDAR