BEGIN:VCALENDAR
VERSION:2.0
PRODID:-//Tukios.com/
BEGIN:VEVENT
UID:02c4ddec-a26c-4a34-a3c3-160f8c5f5f31@www.lutzfuneralhome.com
DTSTAMP:20260424T231609Z
DTSTART:20260503T180000Z
DTEND:20260503T190000Z
SUMMARY:Memorial Service
DESCRIPTION:
URL:https://www.lutzfuneralhome.com/obituaries/kenneth-houck
LOCATION:Lutz Funeral Home, Inc. 2100 Perkiomen Ave  Reading PA 19606
GEO:40.3273722;-75.8956423
END:VEVENT
END:VCALENDAR