BEGIN:VCALENDAR
VERSION:2.0
PRODID:-//Tukios.com/
BEGIN:VEVENT
UID:a5ccd546-7287-486e-9ba4-789f2481a72d@www.lutzfuneralhome.com
DTSTAMP:20260425T205148Z
DTSTART:20260430T140000Z
DTEND:20260430T150000Z
SUMMARY:Public Viewing
DESCRIPTION:
URL:https://www.lutzfuneralhome.com/obituaries/daniel-quinter
LOCATION:Lutz Funeral Home, Inc. 2100 Perkiomen Ave  Reading PA 19606
GEO:40.3273722;-75.8956423
END:VEVENT
END:VCALENDAR